BEGIN:VCALENDAR
VERSION:2.0
PRODID:-//miraajacademy.org//NONSGML kigkonsult.se iCalcreator 2.30.10//
CALSCALE:GREGORIAN
METHOD:PUBLISH
UID:38d27728-b6dd-4ebd-89e0-075789b6ded4
X-WR-CALDESC:
X-WR-RELCALID:c75aefe419c64f627721828a1160833d
X-WR-TIMEZONE:America/Chicago
BEGIN:VTIMEZONE
TZID:America/Chicago
BEGIN:STANDARD
TZNAME:CST
DTSTART:20241103T020000
TZOFFSETFROM:-0500
TZOFFSETTO:-0600
RDATE:20251102T020000
RDATE:20261101T020000
END:STANDARD
BEGIN:DAYLIGHT
TZNAME:CDT
DTSTART:20250309T020000
TZOFFSETFROM:-0600
TZOFFSETTO:-0500
RDATE:20260308T020000
END:DAYLIGHT
END:VTIMEZONE
BEGIN:VEVENT
UID:d8abe049-4ba5-4d52-8542-a14595f7ef57
DTSTAMP:20260424T042348Z
DESCRIPTION:
DTSTART;TZID=America/Chicago:20250621T000000
DTEND;TZID=America/Chicago:20251129T235900
LOCATION:
SUMMARY:Recreational Activities
END:VEVENT
END:VCALENDAR
