BEGIN:VCALENDAR
VERSION:2.0
PRODID:-//miraajacademy.org//NONSGML kigkonsult.se iCalcreator 2.30.10//
CALSCALE:GREGORIAN
METHOD:PUBLISH
UID:eeac8f7c-51b6-431a-90c8-e32fce3e176e
X-WR-CALDESC:
X-WR-RELCALID:70a2b807ed6e6b571da040225c43890e
X-WR-TIMEZONE:America/Chicago
BEGIN:VTIMEZONE
TZID:America/Chicago
BEGIN:STANDARD
TZNAME:CST
DTSTART:20241103T020000
TZOFFSETFROM:-0500
TZOFFSETTO:-0600
RDATE:20251102T020000
RDATE:20261101T020000
END:STANDARD
BEGIN:DAYLIGHT
TZNAME:CDT
DTSTART:20250309T020000
TZOFFSETFROM:-0600
TZOFFSETTO:-0500
RDATE:20260308T020000
END:DAYLIGHT
END:VTIMEZONE
BEGIN:VEVENT
UID:b784f908-c90d-4fcd-bdde-b221121e55dc
DTSTAMP:20260424T055708Z
DESCRIPTION:
DTSTART;TZID=America/Chicago:20250517T000000
DTEND;TZID=America/Chicago:20251025T235900
LOCATION:
SUMMARY:Recreational Activities
END:VEVENT
END:VCALENDAR
