BEGIN:VCALENDAR
VERSION:2.0
PRODID:-//miraajacademy.org//NONSGML kigkonsult.se iCalcreator 2.30.10//
CALSCALE:GREGORIAN
METHOD:PUBLISH
UID:2295e2d3-9bbf-4ab0-8f87-74849ac9f474
X-WR-CALDESC:
X-WR-RELCALID:63ec2f5092fbc1ae1f4addf82a8d6449
X-WR-TIMEZONE:America/Chicago
BEGIN:VTIMEZONE
TZID:America/Chicago
BEGIN:STANDARD
TZNAME:CST
DTSTART:20241103T020000
TZOFFSETFROM:-0500
TZOFFSETTO:-0600
RDATE:20251102T020000
RDATE:20261101T020000
END:STANDARD
BEGIN:DAYLIGHT
TZNAME:CDT
DTSTART:20250309T020000
TZOFFSETFROM:-0600
TZOFFSETTO:-0500
RDATE:20260308T020000
END:DAYLIGHT
END:VTIMEZONE
BEGIN:VEVENT
UID:87ee8434-e4a6-4309-9e4b-d6e6b6ae137d
DTSTAMP:20260424T060147Z
DESCRIPTION:
DTSTART;TZID=America/Chicago:20250503T000000
DTEND;TZID=America/Chicago:20251011T235900
LOCATION:
SUMMARY:Recreational Activities
END:VEVENT
END:VCALENDAR
