BEGIN:VCALENDAR
VERSION:2.0
PRODID:-//miraajacademy.org//NONSGML kigkonsult.se iCalcreator 2.30.10//
CALSCALE:GREGORIAN
METHOD:PUBLISH
UID:2c5648a8-cc51-4932-9a91-a437e6b1bce6
X-WR-CALDESC:
X-WR-RELCALID:a475e4e9d0659f882a0e0866ff600aa9
X-WR-TIMEZONE:America/Chicago
BEGIN:VTIMEZONE
TZID:America/Chicago
BEGIN:STANDARD
TZNAME:CST
DTSTART:20241103T020000
TZOFFSETFROM:-0500
TZOFFSETTO:-0600
RDATE:20251102T020000
END:STANDARD
BEGIN:DAYLIGHT
TZNAME:CDT
DTSTART:20250309T020000
TZOFFSETFROM:-0600
TZOFFSETTO:-0500
RDATE:20260308T020000
END:DAYLIGHT
END:VTIMEZONE
BEGIN:VEVENT
UID:c6669627-1574-4b2d-88de-775c5eca9d03
DTSTAMP:20260424T071954Z
DESCRIPTION:
DTSTART;TZID=America/Chicago:20250419T000000
DTEND;TZID=America/Chicago:20250927T235900
LOCATION:
SUMMARY:Recreational Activities
END:VEVENT
END:VCALENDAR
