BEGIN:VCALENDAR
VERSION:2.0
PRODID:-//miraajacademy.org//NONSGML kigkonsult.se iCalcreator 2.30.10//
CALSCALE:GREGORIAN
METHOD:PUBLISH
UID:a559fb4a-e93a-4cad-a2b7-7e77b5c46325
X-WR-CALDESC:
X-WR-RELCALID:d4c633f30b4a49d3fe89a8b1224774af
X-WR-TIMEZONE:America/Chicago
BEGIN:VTIMEZONE
TZID:America/Chicago
BEGIN:STANDARD
TZNAME:CST
DTSTART:20241103T020000
TZOFFSETFROM:-0500
TZOFFSETTO:-0600
RDATE:20251102T020000
END:STANDARD
BEGIN:DAYLIGHT
TZNAME:CDT
DTSTART:20250309T020000
TZOFFSETFROM:-0600
TZOFFSETTO:-0500
RDATE:20260308T020000
END:DAYLIGHT
END:VTIMEZONE
BEGIN:VEVENT
UID:272fe162-df21-498d-b594-75649cdacdc4
DTSTAMP:20260424T072348Z
DESCRIPTION:
DTSTART;TZID=America/Chicago:20250405T000000
DTEND;TZID=America/Chicago:20250913T235900
LOCATION:
SUMMARY:Recreational Activities
END:VEVENT
END:VCALENDAR
