BEGIN:VCALENDAR
VERSION:2.0
PRODID:-//miraajacademy.org//NONSGML kigkonsult.se iCalcreator 2.30.10//
CALSCALE:GREGORIAN
METHOD:PUBLISH
UID:65563942-6b83-4ad4-89f4-8fdec66c55b4
X-WR-CALDESC:
X-WR-RELCALID:b1dd79dbdfb08238d273c3612af825c7
X-WR-TIMEZONE:America/Chicago
BEGIN:VTIMEZONE
TZID:America/Chicago
BEGIN:STANDARD
TZNAME:CST
DTSTART:20241103T020000
TZOFFSETFROM:-0500
TZOFFSETTO:-0600
RDATE:20251102T020000
END:STANDARD
BEGIN:DAYLIGHT
TZNAME:CDT
DTSTART:20250309T020000
TZOFFSETFROM:-0600
TZOFFSETTO:-0500
RDATE:20260308T020000
END:DAYLIGHT
END:VTIMEZONE
BEGIN:VEVENT
UID:9256b3c5-4ef2-42ed-8952-4131161c6c1d
DTSTAMP:20260424T083013Z
DESCRIPTION:
DTSTART;TZID=America/Chicago:20250315T000000
DTEND;TZID=America/Chicago:20250823T235900
LOCATION:
SUMMARY:Recreational Activities
END:VEVENT
END:VCALENDAR
