BEGIN:VCALENDAR
VERSION:2.0
PRODID:-//miraajacademy.org//NONSGML kigkonsult.se iCalcreator 2.30.10//
CALSCALE:GREGORIAN
METHOD:PUBLISH
UID:0336c9c0-7fbc-4809-a243-4488d31d14ba
X-WR-CALDESC:
X-WR-RELCALID:c56adbff5b08cf8c8af2722bb53086b8
X-WR-TIMEZONE:America/Chicago
BEGIN:VTIMEZONE
TZID:America/Chicago
BEGIN:STANDARD
TZNAME:CST
DTSTART:20241103T020000
TZOFFSETFROM:-0500
TZOFFSETTO:-0600
RDATE:20251102T020000
END:STANDARD
BEGIN:DAYLIGHT
TZNAME:CDT
DTSTART:20240310T020000
TZOFFSETFROM:-0600
TZOFFSETTO:-0500
RDATE:20250309T020000
RDATE:20260308T020000
END:DAYLIGHT
END:VTIMEZONE
BEGIN:VEVENT
UID:d4905c1f-8f12-46b0-9756-0e6f60e4e589
DTSTAMP:20260424T084843Z
DESCRIPTION:
DTSTART;TZID=America/Chicago:20250301T000000
DTEND;TZID=America/Chicago:20250809T235900
LOCATION:
SUMMARY:Recreational Activities
END:VEVENT
END:VCALENDAR
