BEGIN:VCALENDAR
VERSION:2.0
PRODID:-//miraajacademy.org//NONSGML kigkonsult.se iCalcreator 2.30.10//
CALSCALE:GREGORIAN
METHOD:PUBLISH
UID:2b18f2aa-c160-4fe8-937e-22fe39607356
X-WR-CALDESC:
X-WR-RELCALID:cdd3e1888371306f20d3224d8205f167
X-WR-TIMEZONE:America/Chicago
BEGIN:VTIMEZONE
TZID:America/Chicago
BEGIN:STANDARD
TZNAME:CST
DTSTART:20241103T020000
TZOFFSETFROM:-0500
TZOFFSETTO:-0600
RDATE:20251102T020000
END:STANDARD
BEGIN:DAYLIGHT
TZNAME:CDT
DTSTART:20240310T020000
TZOFFSETFROM:-0600
TZOFFSETTO:-0500
RDATE:20250309T020000
RDATE:20260308T020000
END:DAYLIGHT
END:VTIMEZONE
BEGIN:VEVENT
UID:c3bd21c3-e135-454d-8130-58396fd2191d
DTSTAMP:20260424T102141Z
DESCRIPTION:
DTSTART;TZID=America/Chicago:20250215T000000
DTEND;TZID=America/Chicago:20250726T235900
LOCATION:
SUMMARY:Recreational Activities
END:VEVENT
END:VCALENDAR
