BEGIN:VCALENDAR
VERSION:2.0
PRODID:-//miraajacademy.org//NONSGML kigkonsult.se iCalcreator 2.30.10//
CALSCALE:GREGORIAN
METHOD:PUBLISH
UID:083519ec-c87e-4e26-9d09-f95cdd2231eb
X-WR-CALDESC:
X-WR-RELCALID:cfcaa074e47205227310bf23b6e80923
X-WR-TIMEZONE:America/Chicago
BEGIN:VTIMEZONE
TZID:America/Chicago
BEGIN:STANDARD
TZNAME:CST
DTSTART:20241103T020000
TZOFFSETFROM:-0500
TZOFFSETTO:-0600
RDATE:20251102T020000
END:STANDARD
BEGIN:DAYLIGHT
TZNAME:CDT
DTSTART:20240310T020000
TZOFFSETFROM:-0600
TZOFFSETTO:-0500
RDATE:20250309T020000
RDATE:20260308T020000
END:DAYLIGHT
END:VTIMEZONE
BEGIN:VEVENT
UID:f1433daf-c2de-4a52-9767-482186e9e613
DTSTAMP:20260424T100934Z
DESCRIPTION:
DTSTART;TZID=America/Chicago:20250201T000000
DTEND;TZID=America/Chicago:20250712T235900
LOCATION:
SUMMARY:Recreational Activities
END:VEVENT
END:VCALENDAR
