BEGIN:VCALENDAR
VERSION:2.0
PRODID:-//miraajacademy.org//NONSGML kigkonsult.se iCalcreator 2.30.10//
CALSCALE:GREGORIAN
METHOD:PUBLISH
UID:d895e8e5-5ce1-4b60-a197-dc7c60b5f1e9
X-WR-CALDESC:
X-WR-RELCALID:73a44508afef45850e3fc268ca1d7767
X-WR-TIMEZONE:America/Chicago
BEGIN:VTIMEZONE
TZID:America/Chicago
BEGIN:STANDARD
TZNAME:CST
DTSTART:20241103T020000
TZOFFSETFROM:-0500
TZOFFSETTO:-0600
RDATE:20251102T020000
END:STANDARD
BEGIN:DAYLIGHT
TZNAME:CDT
DTSTART:20240310T020000
TZOFFSETFROM:-0600
TZOFFSETTO:-0500
RDATE:20250309T020000
RDATE:20260308T020000
END:DAYLIGHT
END:VTIMEZONE
BEGIN:VEVENT
UID:01b20e7a-05dd-44fb-abce-367b4a771bf8
DTSTAMP:20260424T114615Z
DESCRIPTION:
DTSTART;TZID=America/Chicago:20250118T000000
DTEND;TZID=America/Chicago:20250628T235900
LOCATION:
SUMMARY:Recreational Activities
END:VEVENT
END:VCALENDAR
