BEGIN:VCALENDAR
VERSION:2.0
PRODID:-//miraajacademy.org//NONSGML kigkonsult.se iCalcreator 2.30.10//
CALSCALE:GREGORIAN
METHOD:PUBLISH
UID:ffabcc3e-1d0d-4f7f-a789-ab40a1cd55dd
X-WR-CALDESC:
X-WR-RELCALID:cf65d61ad39e0213d77d27f82490b237
X-WR-TIMEZONE:America/Chicago
BEGIN:VTIMEZONE
TZID:America/Chicago
BEGIN:STANDARD
TZNAME:CST
DTSTART:20241103T020000
TZOFFSETFROM:-0500
TZOFFSETTO:-0600
RDATE:20251102T020000
END:STANDARD
BEGIN:DAYLIGHT
TZNAME:CDT
DTSTART:20240310T020000
TZOFFSETFROM:-0600
TZOFFSETTO:-0500
RDATE:20250309T020000
RDATE:20260308T020000
END:DAYLIGHT
END:VTIMEZONE
BEGIN:VEVENT
UID:933b5be0-0085-4736-8499-db9d4071f819
DTSTAMP:20260424T114826Z
DESCRIPTION:
DTSTART;TZID=America/Chicago:20250104T000000
DTEND;TZID=America/Chicago:20250614T235900
LOCATION:
SUMMARY:Recreational Activities
END:VEVENT
END:VCALENDAR
