BEGIN:VCALENDAR
VERSION:2.0
PRODID:-//miraajacademy.org//NONSGML kigkonsult.se iCalcreator 2.30.10//
CALSCALE:GREGORIAN
METHOD:PUBLISH
UID:6b5479fb-cb7e-476e-a534-849be76bdad4
X-WR-CALDESC:
X-WR-RELCALID:dae0b3045e7e4c35953d3b589f5a3023
X-WR-TIMEZONE:America/Chicago
BEGIN:VTIMEZONE
TZID:America/Chicago
BEGIN:STANDARD
TZNAME:CST
DTSTART:20241103T020000
TZOFFSETFROM:-0500
TZOFFSETTO:-0600
RDATE:20251102T020000
END:STANDARD
BEGIN:DAYLIGHT
TZNAME:CDT
DTSTART:20240310T020000
TZOFFSETFROM:-0600
TZOFFSETTO:-0500
RDATE:20250309T020000
RDATE:20260308T020000
END:DAYLIGHT
END:VTIMEZONE
BEGIN:VEVENT
UID:cdd7e212-dee2-4788-bfb3-a65f514f615f
DTSTAMP:20260424T131005Z
DESCRIPTION:
DTSTART;TZID=America/Chicago:20241221T000000
DTEND;TZID=America/Chicago:20250531T235900
LOCATION:
SUMMARY:Recreational Activities
END:VEVENT
END:VCALENDAR
