BEGIN:VCALENDAR
VERSION:2.0
PRODID:-//miraajacademy.org//NONSGML kigkonsult.se iCalcreator 2.30.10//
CALSCALE:GREGORIAN
METHOD:PUBLISH
UID:0ae75ce9-2c06-42a6-8064-674ea10422e7
X-WR-CALDESC:
X-WR-RELCALID:d9ed808aa92d119701805e3ed79fa0ff
X-WR-TIMEZONE:America/Chicago
BEGIN:VTIMEZONE
TZID:America/Chicago
BEGIN:STANDARD
TZNAME:CST
DTSTART:20241103T020000
TZOFFSETFROM:-0500
TZOFFSETTO:-0600
RDATE:20251102T020000
END:STANDARD
BEGIN:DAYLIGHT
TZNAME:CDT
DTSTART:20240310T020000
TZOFFSETFROM:-0600
TZOFFSETTO:-0500
RDATE:20250309T020000
RDATE:20260308T020000
END:DAYLIGHT
END:VTIMEZONE
BEGIN:VEVENT
UID:73662c02-ae85-4eeb-8207-59edfdb568a1
DTSTAMP:20260424T142417Z
DESCRIPTION:
DTSTART;TZID=America/Chicago:20241116T000000
DTEND;TZID=America/Chicago:20250426T235900
LOCATION:
SUMMARY:Recreational Activities
END:VEVENT
END:VCALENDAR
