BEGIN:VCALENDAR
VERSION:2.0
PRODID:-//miraajacademy.org//NONSGML kigkonsult.se iCalcreator 2.30.10//
CALSCALE:GREGORIAN
METHOD:PUBLISH
UID:32463ea3-1b0d-4b1c-af66-af6a95623600
X-WR-CALDESC:
X-WR-RELCALID:b7a408e3880bd230773adc682f3912d0
X-WR-TIMEZONE:America/Chicago
BEGIN:VTIMEZONE
TZID:America/Chicago
BEGIN:STANDARD
TZNAME:CST
DTSTART:20231105T020000
TZOFFSETFROM:-0500
TZOFFSETTO:-0600
RDATE:20241103T020000
RDATE:20251102T020000
END:STANDARD
BEGIN:DAYLIGHT
TZNAME:CDT
DTSTART:20240310T020000
TZOFFSETFROM:-0600
TZOFFSETTO:-0500
RDATE:20250309T020000
RDATE:20260308T020000
END:DAYLIGHT
END:VTIMEZONE
BEGIN:VEVENT
UID:42dd1c38-7580-4b58-8e62-55d341fb5f70
DTSTAMP:20260424T155238Z
DESCRIPTION:
DTSTART;TZID=America/Chicago:20241005T000000
DTEND;TZID=America/Chicago:20250315T235900
LOCATION:
SUMMARY:Recreational Activities
END:VEVENT
END:VCALENDAR
