BEGIN:VCALENDAR
VERSION:2.0
PRODID:-//miraajacademy.org//NONSGML kigkonsult.se iCalcreator 2.30.10//
CALSCALE:GREGORIAN
METHOD:PUBLISH
UID:28922920-a097-463a-a6c4-17b404e66e0a
X-WR-CALDESC:
X-WR-RELCALID:d2fb171840dd41f95236cdb5f61d702e
X-WR-TIMEZONE:America/Chicago
BEGIN:VTIMEZONE
TZID:America/Chicago
BEGIN:STANDARD
TZNAME:CST
DTSTART:20231105T020000
TZOFFSETFROM:-0500
TZOFFSETTO:-0600
RDATE:20241103T020000
RDATE:20251102T020000
END:STANDARD
BEGIN:DAYLIGHT
TZNAME:CDT
DTSTART:20240310T020000
TZOFFSETFROM:-0600
TZOFFSETTO:-0500
RDATE:20250309T020000
RDATE:20260308T020000
END:DAYLIGHT
END:VTIMEZONE
BEGIN:VEVENT
UID:723f3328-afb8-4c16-9c2c-da290d5b275a
DTSTAMP:20260424T171559Z
DESCRIPTION:
DTSTART;TZID=America/Chicago:20240921T000000
DTEND;TZID=America/Chicago:20250301T235900
LOCATION:
SUMMARY:Recreational Activities
END:VEVENT
END:VCALENDAR
