BEGIN:VCALENDAR
VERSION:2.0
PRODID:-//miraajacademy.org//NONSGML kigkonsult.se iCalcreator 2.30.10//
CALSCALE:GREGORIAN
METHOD:PUBLISH
UID:309419d9-11e6-4b45-bdf6-16df774bd4e9
X-WR-CALDESC:
X-WR-RELCALID:e5f91ce6c3a8d6850bbce3916971f0cb
X-WR-TIMEZONE:America/Chicago
BEGIN:VTIMEZONE
TZID:America/Chicago
BEGIN:STANDARD
TZNAME:CST
DTSTART:20231105T020000
TZOFFSETFROM:-0500
TZOFFSETTO:-0600
RDATE:20241103T020000
RDATE:20251102T020000
END:STANDARD
BEGIN:DAYLIGHT
TZNAME:CDT
DTSTART:20240310T020000
TZOFFSETFROM:-0600
TZOFFSETTO:-0500
RDATE:20250309T020000
END:DAYLIGHT
END:VTIMEZONE
BEGIN:VEVENT
UID:8623e387-52f8-402f-949d-f58c0b57105c
DTSTAMP:20260424T195128Z
DESCRIPTION:
DTSTART;TZID=America/Chicago:20240720T000000
DTEND;TZID=America/Chicago:20241228T235900
LOCATION:
SUMMARY:Recreational Activities
END:VEVENT
END:VCALENDAR
