BEGIN:VCALENDAR
VERSION:2.0
PRODID:-//miraajacademy.org//NONSGML kigkonsult.se iCalcreator 2.30.10//
CALSCALE:GREGORIAN
METHOD:PUBLISH
UID:6b845c1c-e2d6-4f6e-a771-714af18e0488
X-WR-CALDESC:
X-WR-RELCALID:ebfb814dc69650e65f1cc90f714ca9ea
X-WR-TIMEZONE:America/Chicago
BEGIN:VTIMEZONE
TZID:America/Chicago
BEGIN:STANDARD
TZNAME:CST
DTSTART:20231105T020000
TZOFFSETFROM:-0500
TZOFFSETTO:-0600
RDATE:20241103T020000
RDATE:20251102T020000
END:STANDARD
BEGIN:DAYLIGHT
TZNAME:CDT
DTSTART:20240310T020000
TZOFFSETFROM:-0600
TZOFFSETTO:-0500
RDATE:20250309T020000
END:DAYLIGHT
END:VTIMEZONE
BEGIN:VEVENT
UID:2ddca6c0-2bae-41de-9b38-6adebde65e13
DTSTAMP:20260424T195339Z
DESCRIPTION:
DTSTART;TZID=America/Chicago:20240706T000000
DTEND;TZID=America/Chicago:20241214T235900
LOCATION:
SUMMARY:Recreational Activities
END:VEVENT
END:VCALENDAR
