BEGIN:VCALENDAR
VERSION:2.0
PRODID:-//miraajacademy.org//NONSGML kigkonsult.se iCalcreator 2.30.10//
CALSCALE:GREGORIAN
METHOD:PUBLISH
UID:dcb5ceb6-ad08-499d-ae6f-5a60dbb0c5da
X-WR-CALDESC:
X-WR-RELCALID:797b474ae0fa8bb21c9bc980bb43a902
X-WR-TIMEZONE:America/Chicago
BEGIN:VTIMEZONE
TZID:America/Chicago
BEGIN:STANDARD
TZNAME:CST
DTSTART:20231105T020000
TZOFFSETFROM:-0500
TZOFFSETTO:-0600
RDATE:20241103T020000
RDATE:20251102T020000
END:STANDARD
BEGIN:DAYLIGHT
TZNAME:CDT
DTSTART:20240310T020000
TZOFFSETFROM:-0600
TZOFFSETTO:-0500
RDATE:20250309T020000
END:DAYLIGHT
END:VTIMEZONE
BEGIN:VEVENT
UID:00ac0f4a-3c21-4ac4-98f4-bac507632fdc
DTSTAMP:20260424T211710Z
DESCRIPTION:
DTSTART;TZID=America/Chicago:20240615T000000
DTEND;TZID=America/Chicago:20241123T235900
LOCATION:
SUMMARY:Recreational Activities
END:VEVENT
END:VCALENDAR
