BEGIN:VCALENDAR
VERSION:2.0
PRODID:-//miraajacademy.org//NONSGML kigkonsult.se iCalcreator 2.30.10//
CALSCALE:GREGORIAN
METHOD:PUBLISH
UID:dcc57d64-19c6-464b-b264-ae7a5d4285b3
X-WR-CALDESC:
X-WR-RELCALID:4191b26056eeba3e0d477eb289b001b1
X-WR-TIMEZONE:America/Chicago
BEGIN:VTIMEZONE
TZID:America/Chicago
BEGIN:STANDARD
TZNAME:CST
DTSTART:20231105T020000
TZOFFSETFROM:-0500
TZOFFSETTO:-0600
RDATE:20241103T020000
RDATE:20251102T020000
END:STANDARD
BEGIN:DAYLIGHT
TZNAME:CDT
DTSTART:20240310T020000
TZOFFSETFROM:-0600
TZOFFSETTO:-0500
RDATE:20250309T020000
END:DAYLIGHT
END:VTIMEZONE
BEGIN:VEVENT
UID:190cb77f-f0f2-43c2-90f9-10fc22ce5c0b
DTSTAMP:20260424T211349Z
DESCRIPTION:
DTSTART;TZID=America/Chicago:20240601T000000
DTEND;TZID=America/Chicago:20241109T235900
LOCATION:
SUMMARY:Recreational Activities
END:VEVENT
END:VCALENDAR
