BEGIN:VCALENDAR
VERSION:2.0
PRODID:-//miraajacademy.org//NONSGML kigkonsult.se iCalcreator 2.30.10//
CALSCALE:GREGORIAN
METHOD:PUBLISH
UID:b2c397b5-2c35-4946-895e-0b0ba7c2365c
X-WR-CALDESC:
X-WR-RELCALID:cfac57f862d0c13660e79540f6d523e2
X-WR-TIMEZONE:America/Chicago
BEGIN:VTIMEZONE
TZID:America/Chicago
BEGIN:STANDARD
TZNAME:CST
DTSTART:20231105T020000
TZOFFSETFROM:-0500
TZOFFSETTO:-0600
RDATE:20241103T020000
RDATE:20251102T020000
END:STANDARD
BEGIN:DAYLIGHT
TZNAME:CDT
DTSTART:20240310T020000
TZOFFSETFROM:-0600
TZOFFSETTO:-0500
RDATE:20250309T020000
END:DAYLIGHT
END:VTIMEZONE
BEGIN:VEVENT
UID:a744e33e-9542-4e8f-8977-dabbfb4f4083
DTSTAMP:20260424T221859Z
DESCRIPTION:
DTSTART;TZID=America/Chicago:20240518T000000
DTEND;TZID=America/Chicago:20241026T235900
LOCATION:
SUMMARY:Recreational Activities
END:VEVENT
END:VCALENDAR
