BEGIN:VCALENDAR
VERSION:2.0
PRODID:-//miraajacademy.org//NONSGML kigkonsult.se iCalcreator 2.30.10//
CALSCALE:GREGORIAN
METHOD:PUBLISH
UID:884f2796-a851-41d3-8acc-c753ee8727f0
X-WR-CALDESC:
X-WR-RELCALID:94ee965f1f838a83cae795d27aef557c
X-WR-TIMEZONE:America/Chicago
BEGIN:VTIMEZONE
TZID:America/Chicago
BEGIN:STANDARD
TZNAME:CST
DTSTART:20231105T020000
TZOFFSETFROM:-0500
TZOFFSETTO:-0600
RDATE:20241103T020000
RDATE:20251102T020000
END:STANDARD
BEGIN:DAYLIGHT
TZNAME:CDT
DTSTART:20240310T020000
TZOFFSETFROM:-0600
TZOFFSETTO:-0500
RDATE:20250309T020000
END:DAYLIGHT
END:VTIMEZONE
BEGIN:VEVENT
UID:498c2e2f-9e66-47fa-bf48-b74a136360e4
DTSTAMP:20260424T222446Z
DESCRIPTION:
DTSTART;TZID=America/Chicago:20240504T000000
DTEND;TZID=America/Chicago:20241012T235900
LOCATION:
SUMMARY:Recreational Activities
END:VEVENT
END:VCALENDAR
