BEGIN:VCALENDAR
VERSION:2.0
PRODID:-//miraajacademy.org//NONSGML kigkonsult.se iCalcreator 2.30.10//
CALSCALE:GREGORIAN
METHOD:PUBLISH
UID:cc3cbca8-5757-43b1-ac21-c424c4c752f6
X-WR-CALDESC:
X-WR-RELCALID:78670bef162cd2fff2390415e44e26e9
X-WR-TIMEZONE:America/Chicago
BEGIN:VTIMEZONE
TZID:America/Chicago
BEGIN:STANDARD
TZNAME:CST
DTSTART:20231105T020000
TZOFFSETFROM:-0500
TZOFFSETTO:-0600
RDATE:20241103T020000
END:STANDARD
BEGIN:DAYLIGHT
TZNAME:CDT
DTSTART:20240310T020000
TZOFFSETFROM:-0600
TZOFFSETTO:-0500
RDATE:20250309T020000
END:DAYLIGHT
END:VTIMEZONE
BEGIN:VEVENT
UID:df8ce0ab-6324-4034-b440-9ce871e7115e
DTSTAMP:20260424T234737Z
DESCRIPTION:
DTSTART;TZID=America/Chicago:20240420T000000
DTEND;TZID=America/Chicago:20240928T235900
LOCATION:
SUMMARY:Recreational Activities
END:VEVENT
END:VCALENDAR
