BEGIN:VCALENDAR
VERSION:2.0
PRODID:-//miraajacademy.org//NONSGML kigkonsult.se iCalcreator 2.30.10//
CALSCALE:GREGORIAN
METHOD:PUBLISH
UID:5a0c7925-fa1b-490a-af1c-13bdd1a64867
X-WR-CALDESC:
X-WR-RELCALID:bde081a77fa687cc08aededbe6603bea
X-WR-TIMEZONE:America/Chicago
BEGIN:VTIMEZONE
TZID:America/Chicago
BEGIN:STANDARD
TZNAME:CST
DTSTART:20231105T020000
TZOFFSETFROM:-0500
TZOFFSETTO:-0600
RDATE:20241103T020000
END:STANDARD
BEGIN:DAYLIGHT
TZNAME:CDT
DTSTART:20240310T020000
TZOFFSETFROM:-0600
TZOFFSETTO:-0500
RDATE:20250309T020000
END:DAYLIGHT
END:VTIMEZONE
BEGIN:VEVENT
UID:43f0c603-0846-46eb-a5bc-4d526feceda9
DTSTAMP:20260424T234842Z
DESCRIPTION:
DTSTART;TZID=America/Chicago:20240413T000000
DTEND;TZID=America/Chicago:20240413T235900
LOCATION:
SUMMARY:Helping to Feed the Hungry
END:VEVENT
END:VCALENDAR
