BEGIN:VCALENDAR
VERSION:2.0
PRODID:-//miraajacademy.org//NONSGML kigkonsult.se iCalcreator 2.30.10//
CALSCALE:GREGORIAN
METHOD:PUBLISH
UID:b1e9a08c-e2ca-4935-9c5a-23f6b9c51e5c
X-WR-CALDESC:
X-WR-RELCALID:9eeb964dc9dfe399f3bea0385e7854ae
X-WR-TIMEZONE:America/Chicago
BEGIN:VTIMEZONE
TZID:America/Chicago
BEGIN:STANDARD
TZNAME:CST
DTSTART:20231105T020000
TZOFFSETFROM:-0500
TZOFFSETTO:-0600
RDATE:20241103T020000
END:STANDARD
BEGIN:DAYLIGHT
TZNAME:CDT
DTSTART:20240310T020000
TZOFFSETFROM:-0600
TZOFFSETTO:-0500
RDATE:20250309T020000
END:DAYLIGHT
END:VTIMEZONE
BEGIN:VEVENT
UID:331184cd-f8c0-42c0-b934-759882f8c507
DTSTAMP:20260425T011234Z
DESCRIPTION:
DTSTART;TZID=America/Chicago:20240330T000000
DTEND;TZID=America/Chicago:20240330T235900
LOCATION:
SUMMARY:Helping to Feed the Hungry
END:VEVENT
END:VCALENDAR
