BEGIN:VCALENDAR
VERSION:2.0
PRODID:-//miraajacademy.org//NONSGML kigkonsult.se iCalcreator 2.30.10//
CALSCALE:GREGORIAN
METHOD:PUBLISH
UID:e365b697-065e-4a97-846f-651e4a46a639
X-WR-CALDESC:
X-WR-RELCALID:faaf9aec70f561ee2972d21d7c82934b
X-WR-TIMEZONE:America/Chicago
BEGIN:VTIMEZONE
TZID:America/Chicago
BEGIN:STANDARD
TZNAME:CST
DTSTART:20231105T020000
TZOFFSETFROM:-0500
TZOFFSETTO:-0600
RDATE:20241103T020000
END:STANDARD
BEGIN:DAYLIGHT
TZNAME:CDT
DTSTART:20230312T020000
TZOFFSETFROM:-0600
TZOFFSETTO:-0500
RDATE:20240310T020000
RDATE:20250309T020000
END:DAYLIGHT
END:VTIMEZONE
BEGIN:VEVENT
UID:8c14296d-09db-4abf-940e-9b274ffbcd2b
DTSTAMP:20260425T010259Z
DESCRIPTION:
DTSTART;TZID=America/Chicago:20240302T110000
DTEND;TZID=America/Chicago:20240302T140000
LOCATION:
SUMMARY:Recreational Activities
END:VEVENT
END:VCALENDAR
