BEGIN:VCALENDAR
VERSION:2.0
PRODID:-//miraajacademy.org//NONSGML kigkonsult.se iCalcreator 2.30.10//
CALSCALE:GREGORIAN
METHOD:PUBLISH
UID:806824e5-56b4-4ffd-8216-40c60e1de38e
X-WR-CALDESC:
X-WR-RELCALID:502d6d5a1286a0da54e0bac552f8646b
X-WR-TIMEZONE:America/Chicago
BEGIN:VTIMEZONE
TZID:America/Chicago
BEGIN:STANDARD
TZNAME:CST
DTSTART:20231105T020000
TZOFFSETFROM:-0500
TZOFFSETTO:-0600
RDATE:20241103T020000
END:STANDARD
BEGIN:DAYLIGHT
TZNAME:CDT
DTSTART:20230312T020000
TZOFFSETFROM:-0600
TZOFFSETTO:-0500
RDATE:20240310T020000
RDATE:20250309T020000
END:DAYLIGHT
END:VTIMEZONE
BEGIN:VEVENT
UID:ca32ddec-c97d-4d9a-9f10-50087a0e0fb9
DTSTAMP:20260425T024225Z
DESCRIPTION:
DTSTART;TZID=America/Chicago:20240217T110000
DTEND;TZID=America/Chicago:20240217T140000
LOCATION:
SUMMARY:Recreational Activities
END:VEVENT
END:VCALENDAR
