BEGIN:VCALENDAR
VERSION:2.0
PRODID:-//miraajacademy.org//NONSGML kigkonsult.se iCalcreator 2.30.10//
CALSCALE:GREGORIAN
METHOD:PUBLISH
UID:193c3401-c282-4e9f-8afc-4cef1f615014
X-WR-CALDESC:
X-WR-RELCALID:30b964324cd2d43bb947848663b8a933
X-WR-TIMEZONE:America/Chicago
BEGIN:VTIMEZONE
TZID:America/Chicago
BEGIN:STANDARD
TZNAME:CST
DTSTART:20231105T020000
TZOFFSETFROM:-0500
TZOFFSETTO:-0600
RDATE:20241103T020000
END:STANDARD
BEGIN:DAYLIGHT
TZNAME:CDT
DTSTART:20230312T020000
TZOFFSETFROM:-0600
TZOFFSETTO:-0500
RDATE:20240310T020000
RDATE:20250309T020000
END:DAYLIGHT
END:VTIMEZONE
BEGIN:VEVENT
UID:7b388f82-b5e5-405c-8bd5-bd2e44c03c79
DTSTAMP:20260425T040008Z
DESCRIPTION:
DTSTART;TZID=America/Chicago:20240127T000000
DTEND;TZID=America/Chicago:20240127T235900
LOCATION:
SUMMARY:Helping to Feed the Hungry
END:VEVENT
END:VCALENDAR
