BEGIN:VCALENDAR
VERSION:2.0
PRODID:-//miraajacademy.org//NONSGML kigkonsult.se iCalcreator 2.30.10//
CALSCALE:GREGORIAN
METHOD:PUBLISH
UID:fc411d59-6b93-4294-93a7-cba5d9f002b8
X-WR-CALDESC:
X-WR-RELCALID:6f79164500eab37de0cf4f3c03f1f46c
X-WR-TIMEZONE:America/Chicago
BEGIN:VTIMEZONE
TZID:America/Chicago
BEGIN:STANDARD
TZNAME:CST
DTSTART:20221106T020000
TZOFFSETFROM:-0500
TZOFFSETTO:-0600
RDATE:20231105T020000
RDATE:20241103T020000
END:STANDARD
BEGIN:DAYLIGHT
TZNAME:CDT
DTSTART:20230312T020000
TZOFFSETFROM:-0600
TZOFFSETTO:-0500
RDATE:20240310T020000
END:DAYLIGHT
END:VTIMEZONE
BEGIN:VEVENT
UID:1365efe6-c5b0-4c7f-86fe-f8289de8a61e
DTSTAMP:20260425T105412Z
DESCRIPTION:
DTSTART;TZID=America/Chicago:20230820T100000
DTEND;TZID=America/Chicago:20230820T150000
LOCATION:
SUMMARY:Islamic Education Expo - Philadelphia
END:VEVENT
END:VCALENDAR
